BEGIN:VCALENDAR
VERSION:2.0
PRODID:-//Public Works Calendar - ECPv6.15.20//NONSGML v1.0//EN
CALSCALE:GREGORIAN
METHOD:PUBLISH
X-WR-CALNAME:Public Works Calendar
X-ORIGINAL-URL:https://calendar.pw.lacounty.gov
X-WR-CALDESC:Events for Public Works Calendar
REFRESH-INTERVAL;VALUE=DURATION:PT1H
X-Robots-Tag:noindex
X-PUBLISHED-TTL:PT1H
BEGIN:VTIMEZONE
TZID:America/Los_Angeles
BEGIN:DAYLIGHT
TZOFFSETFROM:-0800
TZOFFSETTO:-0700
TZNAME:PDT
DTSTART:20230312T100000
END:DAYLIGHT
BEGIN:STANDARD
TZOFFSETFROM:-0700
TZOFFSETTO:-0800
TZNAME:PST
DTSTART:20231105T090000
END:STANDARD
BEGIN:DAYLIGHT
TZOFFSETFROM:-0800
TZOFFSETTO:-0700
TZNAME:PDT
DTSTART:20240310T100000
END:DAYLIGHT
BEGIN:STANDARD
TZOFFSETFROM:-0700
TZOFFSETTO:-0800
TZNAME:PST
DTSTART:20241103T090000
END:STANDARD
BEGIN:DAYLIGHT
TZOFFSETFROM:-0800
TZOFFSETTO:-0700
TZNAME:PDT
DTSTART:20250309T100000
END:DAYLIGHT
BEGIN:STANDARD
TZOFFSETFROM:-0700
TZOFFSETTO:-0800
TZNAME:PST
DTSTART:20251102T090000
END:STANDARD
END:VTIMEZONE
BEGIN:VEVENT
DTSTART;TZID=America/Los_Angeles:20240208T140000
DTEND;TZID=America/Los_Angeles:20240208T150000
DTSTAMP:20260421T193513
CREATED:20240208T002206Z
LAST-MODIFIED:20240208T193923Z
UID:10000045-1707400800-1707404400@calendar.pw.lacounty.gov
SUMMARY:Water-wise Gardening
DESCRIPTION:Create a beautiful drought-tolerant landscape.
URL:https://calendar.pw.lacounty.gov/event/water-wise-gardening-2/
CATEGORIES:Clean LA - Smart Gardening
ATTACH;FMTTYPE=image/jpeg:https://calendar.pw.lacounty.gov/wp-content/uploads/sites/18/2024/02/124d584f9e66521d44a9056b96d1d4e7.jpg
END:VEVENT
BEGIN:VEVENT
DTSTART;TZID=America/Los_Angeles:20240210T090000
DTEND;TZID=America/Los_Angeles:20240210T140000
DTSTAMP:20260421T193513
CREATED:20240207T183853Z
LAST-MODIFIED:20240210T005426Z
UID:10000009-1707555600-1707573600@calendar.pw.lacounty.gov
SUMMARY:Household Hazardous Waste Reuse Center
DESCRIPTION:Pick up unused or partially used products for FREE
URL:https://calendar.pw.lacounty.gov/event/household-hazardous-waste-reuse-center/
LOCATION:EDCO Recycling & Transfer (hours of operation apply to Transfer Station only)\, 2755 California Avenue\, Signal Hill\, CA\, 90755\, United States
CATEGORIES:Clean LA - Reuse Center
ATTACH;FMTTYPE=image/jpeg:https://calendar.pw.lacounty.gov/wp-content/uploads/sites/18/2024/02/fad1c126f5feb7fcfcfbc205e5b1519d.jpg
END:VEVENT
BEGIN:VEVENT
DTSTART;TZID=America/Los_Angeles:20240210T090000
DTEND;TZID=America/Los_Angeles:20240210T140000
DTSTAMP:20260421T193513
CREATED:20240208T001834Z
LAST-MODIFIED:20240210T011025Z
UID:10000057-1707555600-1707573600@calendar.pw.lacounty.gov
SUMMARY:EDCO Recycling & Transfer Center
DESCRIPTION:Bring your HHW/E-Waste to dispose of FREE of charge.\n\n\nItems accepted at the EDCO Recycling and Transfer Collection Center include unwanted non-controlled pharmaceuticals\, needles and syringes\, antifreeze\, car batteries\, cleaning supplies\, cosmetics\, used motor oil\, pesticides\, household batteries\, fluorescent light bulbs\, TVs\, computers\, VCRs\, stereos\, and cell phones. Residents can bring up to 15 gallons or 125 pounds of HHW per vehicle. We do not accept: Household Hazardous and electronic waste from a business\, explosives\, ammunition\, marine flares\, radioactive materials\, controlled substances\, trash and tires\, and white goods (refrigerators\, stoves\, washing machines\, etc. \n\n\nThe Center is located in one of Los Angeles’ most densely populated areas and will serve as a convenient outlet for all county residents to safely dispose of hazardous waste.The Center provides a free\, convenient and environmentally safe method for County residents to drop-off HHW/E-Waste free of charge. The center is located at EDCO Recycling and Transfer Center\, 2755 California Ave\, in the City of Signal Hill. It is open the second and fourth Saturday of every month from 9 a.m. – 2 p.m.EDCO will be closed the following dates: 1/13/24; 3/23/24; 5/25/24; 10/12/24; 11/9/24; and 12/28/24.
URL:https://calendar.pw.lacounty.gov/event/edco-recycling-transfer-center/
LOCATION:EDCO Recycling & Transfer (hours of operation apply to Transfer Station only)\, 2755 California Avenue\, Signal Hill\, CA\, 90755\, United States
CATEGORIES:Clean LA - Collection Centers
ATTACH;FMTTYPE=image/jpeg:https://calendar.pw.lacounty.gov/wp-content/uploads/sites/18/2024/02/453f8815cd60ac8421918a142425018d.jpg
END:VEVENT
BEGIN:VEVENT
DTSTART;TZID=America/Los_Angeles:20240210T120000
DTEND;TZID=America/Los_Angeles:20240210T133000
DTSTAMP:20260421T193513
CREATED:20240208T002205Z
LAST-MODIFIED:20240210T080926Z
UID:10000050-1707566400-1707571800@calendar.pw.lacounty.gov
SUMMARY:Backyard and Worm Composting
DESCRIPTION:Learn the practice of backyard and worm composting.\n\n\nBackyard and Worm Composting (Composting 101)Learn the practice of backyard and worm composting\, plus other aspects of smart gardening: water conservation\, grasscycling\, and edible gardening. \n\n\nWe encourage you to attend a free workshop to improve your lawn/garden\, conserve water\, and reduce waste. No reservations needed. Workshops are about 1.5 hours and are held at libraries\, parks\, and other venues. Purchase compost bins at a discount after each workshop. Or join our free live webinars online.
URL:https://calendar.pw.lacounty.gov/event/backyard-and-worm-composting-2/
LOCATION:San Dimas Canyon Nature Center\, 1628 Sycamore Canyon Road\, San Dimas\, CA\, 91773\, United States
CATEGORIES:Clean LA - Smart Gardening
ATTACH;FMTTYPE=image/jpeg:https://calendar.pw.lacounty.gov/wp-content/uploads/sites/18/2024/02/28809c5c6e70b5cfe29a50a438ae5f0d.jpg
END:VEVENT
BEGIN:VEVENT
DTSTART;TZID=America/Los_Angeles:20240217T090000
DTEND;TZID=America/Los_Angeles:20240217T150000
DTSTAMP:20260421T193513
CREATED:20240208T001430Z
LAST-MODIFIED:20240217T010924Z
UID:10000055-1708160400-1708182000@calendar.pw.lacounty.gov
SUMMARY:Unincorporated Marina Del Rey HHW Collection Event
DESCRIPTION:Bring your HHW/E-Waste to dispose of FREE of charge.\n\n\nPlease follow the transportation limit of 15 gallons or 125 pounds of hazardous waste per trip when driving your HHW/E-waste to the County permanent centers or collection events for disposal. Business hazardous waste and electronic waste is not accepted at the County permanent centers or collection events. If you are a small business with hazardous waste\, visit www.businessrecycling.com to locate a proper recycler. You may qualify for the Very Small Quantity Generator (VSQG) Program. This service is by appointment only. Please call 310-387-1071\, or email 4HCESQG@cleanharbors.com to book an appointment. \nHHW/E-Waste Collection Events \nLos Angeles County residents may utilize temporary\, one-day collection events throughout the County to properly dispose of HHW/E-Waste FREE of charge. Events are from 9 a.m. to 3 p.m. (unless otherwise noted). Rain or shine\, collection events will be held as scheduled below. \nSign up for E-Notify to receive automatic notifications of new events. Learn what to expect when attending an event here: HHW/E-Waste Temporary Collection Events.
URL:https://calendar.pw.lacounty.gov/event/unincorporated-marina-del-rey-hhw-collection-event/
LOCATION:Fiji Way\, Fiji Way\, Marina del Rey\, CA\, 90292\, United States
CATEGORIES:Clean LA - HHW
ATTACH;FMTTYPE=image/jpeg:https://calendar.pw.lacounty.gov/wp-content/uploads/sites/18/2024/02/4931009df4707454ac8b29f9d490d813.jpg
END:VEVENT
BEGIN:VEVENT
DTSTART;TZID=America/Los_Angeles:20240219T180000
DTEND;TZID=America/Los_Angeles:20240219T190000
DTSTAMP:20260421T193513
CREATED:20240208T002204Z
LAST-MODIFIED:20240219T082427Z
UID:10000051-1708365600-1708369200@calendar.pw.lacounty.gov
SUMMARY:Organic Gardening
DESCRIPTION:Learn to use organic methods when gardening.
URL:https://calendar.pw.lacounty.gov/event/organic-gardening-2/
CATEGORIES:Clean LA - Smart Gardening
ATTACH;FMTTYPE=image/jpeg:https://calendar.pw.lacounty.gov/wp-content/uploads/sites/18/2024/02/11bf2559bfbb2b4318cfb7a70f6e40a0.jpg
END:VEVENT
BEGIN:VEVENT
DTSTART;TZID=America/Los_Angeles:20240221T180000
DTEND;TZID=America/Los_Angeles:20240221T190000
DTSTAMP:20260421T193513
CREATED:20240208T002202Z
LAST-MODIFIED:20240221T080924Z
UID:10000047-1708538400-1708542000@calendar.pw.lacounty.gov
SUMMARY:Small-space Gardening
DESCRIPTION:Learn to grow plants in small containers and set up small-space worm composting system.
URL:https://calendar.pw.lacounty.gov/event/small-space-gardening-3/
CATEGORIES:Clean LA - Smart Gardening
ATTACH;FMTTYPE=image/jpeg:https://calendar.pw.lacounty.gov/wp-content/uploads/sites/18/2024/02/e79277c958d0b04e8bb893655a85c036.jpg
END:VEVENT
BEGIN:VEVENT
DTSTART;TZID=America/Los_Angeles:20240224T090000
DTEND;TZID=America/Los_Angeles:20240224T140000
DTSTAMP:20260421T193513
CREATED:20240207T183856Z
LAST-MODIFIED:20240224T210924Z
UID:10000010-1708765200-1708783200@calendar.pw.lacounty.gov
SUMMARY:Household Hazardous Waste Reuse Center
DESCRIPTION:Pick up unused or partially used products for FREE
URL:https://calendar.pw.lacounty.gov/event/household-hazardous-waste-reuse-center-2/
LOCATION:EDCO Recycling & Transfer (hours of operation apply to Transfer Station only)\, 2755 California Avenue\, Signal Hill\, CA\, 90755\, United States
CATEGORIES:Clean LA - Reuse Center
ATTACH;FMTTYPE=image/jpeg:https://calendar.pw.lacounty.gov/wp-content/uploads/sites/18/2024/02/fad1c126f5feb7fcfcfbc205e5b1519d.jpg
END:VEVENT
BEGIN:VEVENT
DTSTART;TZID=America/Los_Angeles:20240224T090000
DTEND;TZID=America/Los_Angeles:20240224T140000
DTSTAMP:20260421T193513
CREATED:20240208T001835Z
LAST-MODIFIED:20240223T220922Z
UID:10000058-1708765200-1708783200@calendar.pw.lacounty.gov
SUMMARY:EDCO Recycling & Transfer Center
DESCRIPTION:Bring your HHW/E-Waste to dispose of FREE of charge.\n\n\nItems accepted at the EDCO Recycling and Transfer Collection Center include unwanted non-controlled pharmaceuticals\, needles and syringes\, antifreeze\, car batteries\, cleaning supplies\, cosmetics\, used motor oil\, pesticides\, household batteries\, fluorescent light bulbs\, TVs\, computers\, VCRs\, stereos\, and cell phones. Residents can bring up to 15 gallons or 125 pounds of HHW per vehicle. We do not accept: Household Hazardous and electronic waste from a business\, explosives\, ammunition\, marine flares\, radioactive materials\, controlled substances\, trash and tires\, and white goods (refrigerators\, stoves\, washing machines\, etc. \n \n\n\nThe Center is located in one of Los Angeles’ most densely populated areas and will serve as a convenient outlet for all county residents to safely dispose of hazardous waste.The Center provides a free\, convenient and environmentally safe method for County residents to drop-off HHW/E-Waste free of charge. The center is located at EDCO Recycling and Transfer Center\, 2755 California Ave\, in the City of Signal Hill. It is open the second and fourth Saturday of every month from 9 a.m. – 2 p.m.EDCO will be closed the following dates: 1/13/24; 3/23/24; 5/25/24; 10/12/24; 11/9/24; and 12/28/24.
URL:https://calendar.pw.lacounty.gov/event/edco-recycling-transfer-center-2/
LOCATION:EDCO Recycling & Transfer (hours of operation apply to Transfer Station only)\, 2755 California Avenue\, Signal Hill\, CA\, 90755\, United States
CATEGORIES:Clean LA - Collection Centers
ATTACH;FMTTYPE=image/jpeg:https://calendar.pw.lacounty.gov/wp-content/uploads/sites/18/2024/02/08a5f720d1a538a229c5c5c7b27f15ab.jpg
END:VEVENT
BEGIN:VEVENT
DTSTART;TZID=America/Los_Angeles:20240224T090000
DTEND;TZID=America/Los_Angeles:20240224T150000
DTSTAMP:20260421T193513
CREATED:20240207T040841Z
LAST-MODIFIED:20240224T215425Z
UID:10000006-1708765200-1708786800@calendar.pw.lacounty.gov
SUMMARY:City of Santa Fe Springs HHW Collection Event
DESCRIPTION:Bring your HHW/E-Waste to dispose of FREE of charge.\n\n\nPlease follow the transportation limit of 15 gallons or 125 pounds of hazardous waste per trip when driving your HHW/E-waste to the County permanent centers or collection events for disposal. Business hazardous waste and electronic waste is not accepted at the County permanent centers or collection events. If you are a small business with hazardous waste\, visit www.businessrecycling.com to locate a proper recycler. You may qualify for the Very Small Quantity Generator (VSQG) Program. This service is by appointment only. Please call 310-387-1071\, or email 4HCESQG@cleanharbors.com to book an appointment. \nHHW/E-Waste Collection Events \nLos Angeles County residents may utilize temporary\, one-day collection events throughout the County to properly dispose of HHW/E-Waste FREE of charge. Events are from 9 a.m. to 3 p.m. (unless otherwise noted). Rain or shine\, collection events will be held as scheduled below. \nSign up for E-Notify to receive automatic notifications of new events. Learn what to expect when attending an event here: HHW/E-Waste Temporary Collection Events.
URL:https://calendar.pw.lacounty.gov/event/city-of-santa-fe-springs-hhw-collection-event/
LOCATION:Rio Hondo College Fire Academy\, 11400 Greenstone Avenue\, Santa Fe Springs\, CA\, 90670\, United States
CATEGORIES:Clean LA - HHW
ATTACH;FMTTYPE=image/jpeg:https://calendar.pw.lacounty.gov/wp-content/uploads/sites/18/2024/02/ce968fd122ef8046973436503e67cca8.jpg
END:VEVENT
BEGIN:VEVENT
DTSTART;TZID=America/Los_Angeles:20240224T090000
DTEND;TZID=America/Los_Angeles:20240224T150000
DTSTAMP:20260421T193513
CREATED:20240207T220835Z
LAST-MODIFIED:20240223T235426Z
UID:10000054-1708765200-1708786800@calendar.pw.lacounty.gov
SUMMARY:Tire Recycling Event - Baldwin Park
DESCRIPTION:Bring your used tires to our free Waste Tire Collection Event.\n\n\nResidents are encouraged to bring their used tires to our free Waste Tire Collection Events. Tires will be accepted and recycled free of charge. Don’t miss the opportunity to remove those stubborn tires in your yard\, garage or community. Thousands of residents have taken advantage of this service. \n\n\nRESTRICTIONS:● Tires from LA County residents only.● Rims will be accepted.● No tires from businesses.● No oversized or tractor tires.● If you transport 10 or more tires per trip\, please contact the Public Health Department a week ahead at (626) 430-5540 to obtain a tire transport form.
URL:https://calendar.pw.lacounty.gov/event/tire-recycling-event-baldwin-park/
LOCATION:Public Works District Yard 3\, 5530 W. 83rd St\, Los Angeles\, CA\, 90045\, United States
CATEGORIES:Clean LA - Tire Recyling
ATTACH;FMTTYPE=image/jpeg:https://calendar.pw.lacounty.gov/wp-content/uploads/sites/18/2024/02/d64b09d3fdd54d3d1e70ed51bd47319e.jpg
END:VEVENT
END:VCALENDAR