BEGIN:VCALENDAR
VERSION:2.0
PRODID:-//Public Works Calendar - ECPv6.15.20//NONSGML v1.0//EN
CALSCALE:GREGORIAN
METHOD:PUBLISH
X-WR-CALNAME:Public Works Calendar
X-ORIGINAL-URL:https://calendar.pw.lacounty.gov
X-WR-CALDESC:Events for Public Works Calendar
REFRESH-INTERVAL;VALUE=DURATION:PT1H
X-Robots-Tag:noindex
X-PUBLISHED-TTL:PT1H
BEGIN:VTIMEZONE
TZID:America/Los_Angeles
BEGIN:DAYLIGHT
TZOFFSETFROM:-0800
TZOFFSETTO:-0700
TZNAME:PDT
DTSTART:20240310T100000
END:DAYLIGHT
BEGIN:STANDARD
TZOFFSETFROM:-0700
TZOFFSETTO:-0800
TZNAME:PST
DTSTART:20241103T090000
END:STANDARD
BEGIN:DAYLIGHT
TZOFFSETFROM:-0800
TZOFFSETTO:-0700
TZNAME:PDT
DTSTART:20250309T100000
END:DAYLIGHT
BEGIN:STANDARD
TZOFFSETFROM:-0700
TZOFFSETTO:-0800
TZNAME:PST
DTSTART:20251102T090000
END:STANDARD
BEGIN:DAYLIGHT
TZOFFSETFROM:-0800
TZOFFSETTO:-0700
TZNAME:PDT
DTSTART:20260308T100000
END:DAYLIGHT
BEGIN:STANDARD
TZOFFSETFROM:-0700
TZOFFSETTO:-0800
TZNAME:PST
DTSTART:20261101T090000
END:STANDARD
END:VTIMEZONE
BEGIN:VTIMEZONE
TZID:America/New_York
BEGIN:DAYLIGHT
TZOFFSETFROM:-0500
TZOFFSETTO:-0400
TZNAME:EDT
DTSTART:20240310T070000
END:DAYLIGHT
BEGIN:STANDARD
TZOFFSETFROM:-0400
TZOFFSETTO:-0500
TZNAME:EST
DTSTART:20241103T060000
END:STANDARD
BEGIN:DAYLIGHT
TZOFFSETFROM:-0500
TZOFFSETTO:-0400
TZNAME:EDT
DTSTART:20250309T070000
END:DAYLIGHT
BEGIN:STANDARD
TZOFFSETFROM:-0400
TZOFFSETTO:-0500
TZNAME:EST
DTSTART:20251102T060000
END:STANDARD
BEGIN:DAYLIGHT
TZOFFSETFROM:-0500
TZOFFSETTO:-0400
TZNAME:EDT
DTSTART:20260308T070000
END:DAYLIGHT
BEGIN:STANDARD
TZOFFSETFROM:-0400
TZOFFSETTO:-0500
TZNAME:EST
DTSTART:20261101T060000
END:STANDARD
END:VTIMEZONE
BEGIN:VEVENT
DTSTART;TZID=America/Los_Angeles:20250405T090000
DTEND;TZID=America/Los_Angeles:20250405T150000
DTSTAMP:20260425T175410
CREATED:20250122T231542Z
LAST-MODIFIED:20250225T223938Z
UID:10000245-1743843600-1743865200@calendar.pw.lacounty.gov
SUMMARY:City of Santa Clarita HHW Collection Event
DESCRIPTION:Bring your HHW/E-Waste to dispose of FREE of charge.\n\n\nPlease follow the transportation limit of 15 gallons or 125 pounds of hazardous waste per trip when driving your HHW/E-waste to the County permanent centers or collection events for disposal. \nHHW/E-WASTE COLLECTION EVENTS \nLos Angeles County residents may utilize temporary\, one-day collection events throughout the County to properly dispose of HHW/E-Waste FREE of charge. Events are from 9 a.m. to 3 p.m. (unless otherwise noted). Rain or shine\, collection events will be held as scheduled below. \nBUSINESS WASTE \nBusiness hazardous waste and electronic waste is not accepted at the County permanent centers or collection events. If you are a small business with hazardous waste\, visit www.businessrecycling.com to locate a proper recycler. You may qualify for the Very Small Quantity Generator (VSQG) Program. This service is by appointment only. Please call 310-387-1071\, or email 4HCESQG@cleanharbors.com to book an appointment. \nSign up for E-Notify to receive automatic notifications of new events. Learn what to expect when attending an event here: HHW/E-Waste Temporary Collection Events.
URL:https://calendar.pw.lacounty.gov/event/city-of-santa-clarita-hhw-collection-event-3/
LOCATION:College of the Canyons\, South Parking Lot\, 26455 Rockwell Canyon Road\, Santa Clarita\, CA\, 91355\, United States
CATEGORIES:Clean LA - HHW
ATTACH;FMTTYPE=image/jpeg:https://calendar.pw.lacounty.gov/wp-content/uploads/sites/18/2025/01/60fda3fec423fd119b6f4c858dd60090.jpg
END:VEVENT
BEGIN:VEVENT
DTSTART;TZID=America/Los_Angeles:20250412T090000
DTEND;TZID=America/Los_Angeles:20250412T140000
DTSTAMP:20260425T175410
CREATED:20241222T174818Z
LAST-MODIFIED:20250122T231928Z
UID:10000219-1744448400-1744466400@calendar.pw.lacounty.gov
SUMMARY:Household Hazardous Waste Reuse Center-EDCO
DESCRIPTION:Pick up unused or partially used products for FREE
URL:https://calendar.pw.lacounty.gov/event/household-hazardous-waste-reuse-center-43/
LOCATION:EDCO Recycling & Transfer (hours of operation apply to Transfer Station only)\, 2755 California Avenue\, Signal Hill\, CA\, 90755\, United States
CATEGORIES:Clean LA - Reuse Center
ATTACH;FMTTYPE=image/jpeg:https://calendar.pw.lacounty.gov/wp-content/uploads/sites/18/2024/02/fad1c126f5feb7fcfcfbc205e5b1519d.jpg
END:VEVENT
BEGIN:VEVENT
DTSTART;TZID=America/Los_Angeles:20250412T090000
DTEND;TZID=America/Los_Angeles:20250412T140000
DTSTAMP:20260425T175410
CREATED:20250122T231908Z
LAST-MODIFIED:20250122T231908Z
UID:10000256-1744448400-1744466400@calendar.pw.lacounty.gov
SUMMARY:Permanent HHW/E-Waste Center: EDCO Environmental Collection Center
DESCRIPTION:Bring your HHW/E-Waste to dispose of FREE of charge.
URL:https://calendar.pw.lacounty.gov/event/permanent-hhw-e-waste-center-edco-environmental-collection-center-18/
LOCATION:EDCO Recycling & Transfer (hours of operation apply to Transfer Station only)\, 2755 California Avenue\, Signal Hill\, CA\, 90755\, United States
CATEGORIES:Clean LA - Collection Centers
ATTACH;FMTTYPE=image/jpeg:https://calendar.pw.lacounty.gov/wp-content/uploads/sites/18/2024/07/911d66b38793c602280969c034b8f46f.jpg
END:VEVENT
BEGIN:VEVENT
DTSTART;TZID=America/Los_Angeles:20250412T090000
DTEND;TZID=America/Los_Angeles:20250412T150000
DTSTAMP:20260425T175410
CREATED:20250225T223939Z
LAST-MODIFIED:20250225T223939Z
UID:10000260-1744448400-1744470000@calendar.pw.lacounty.gov
SUMMARY:Unincorporated Florence-Firestone HHW Collection Event
DESCRIPTION:Bring your HHW/E-Waste to dispose of FREE of charge.\n\n\nPlease follow the transportation limit of 15 gallons or 125 pounds of hazardous waste per trip when driving your HHW/E-waste to the County permanent centers or collection events for disposal. \nHHW/E-WASTE COLLECTION EVENTS \nLos Angeles County residents may utilize temporary\, one-day collection events throughout the County to properly dispose of HHW/E-Waste FREE of charge. Events are from 9 a.m. to 3 p.m. (unless otherwise noted). Rain or shine\, collection events will be held as scheduled below. \nBUSINESS WASTE \nBusiness hazardous waste and electronic waste is not accepted at the County permanent centers or collection events. If you are a small business with hazardous waste\, visit www.businessrecycling.com to locate a proper recycler. You may qualify for the Very Small Quantity Generator (VSQG) Program. This service is by appointment only. Please call 310-387-1071\, or email 4HCESQG@cleanharbors.com to book an appointment. \nSign up for E-Notify to receive automatic notifications of new events. Learn what to expect when attending an event here: HHW/E-Waste Temporary Collection Events.
URL:https://calendar.pw.lacounty.gov/event/unincorporated-florence-firestone-hhw-collection-event/
LOCATION:Roosevelt Park Senior Center\, 7600 Graham Avenue\, Los Angeles\, CA\, 90001\, United States
CATEGORIES:Clean LA - HHW
ATTACH;FMTTYPE=image/jpeg:https://calendar.pw.lacounty.gov/wp-content/uploads/sites/18/2025/02/78994c07dc24959e9efc9199a0a98c32.jpg
END:VEVENT
BEGIN:VEVENT
DTSTART;TZID=America/Los_Angeles:20250419T090000
DTEND;TZID=America/Los_Angeles:20250419T130000
DTSTAMP:20260425T175410
CREATED:20250418T074227Z
LAST-MODIFIED:20250418T074227Z
UID:10000269-1745053200-1745067600@calendar.pw.lacounty.gov
SUMMARY:Sunshine Canyon Landfill Free Disposal Day
DESCRIPTION:Bring your unwanted items to Sunshine Canyon Landfill for free disposal on our special event day!\n\n\nResidents in the unincorporated communities of Sunland\, Kagel Canyon\, Lopez \nCanyon\, West Chatsworth\, West Hills\, Oat Mountain/Twin Lakes\, and Lake Manor \ncan drop off up to one ton of trash such as furniture\, appliances\, and other bulky \nitems at Sunshine Canyon Landfill. \n \nResidents must bring proof of residency (e.g.\, Driver’s License). Please \ntarp down your load to prevent litter. No business waste\, tires\, or household \nhazardous waste (paint\, cleaning products\, etc) will be accepted. Please wear closedtoe \nshoes. \n \nPlease see flyers below for event details.
URL:https://calendar.pw.lacounty.gov/event/sunshine-canyon-landfill-free-disposal-day/
LOCATION:Sunshine Canyon Landfill\, 14747 San Fernando Road\, Los Angeles\, CA\, 91342\, United States
CATEGORIES:Environmental
ATTACH;FMTTYPE=image/jpeg:https://calendar.pw.lacounty.gov/wp-content/uploads/sites/18/2025/04/ef616d2bf76186f425bfb9bacb81c9d5.jpg
END:VEVENT
BEGIN:VEVENT
DTSTART;TZID=America/Los_Angeles:20250419T090000
DTEND;TZID=America/Los_Angeles:20250419T150000
DTSTAMP:20260425T175410
CREATED:20250418T074223Z
LAST-MODIFIED:20250418T074223Z
UID:10000265-1745053200-1745074800@calendar.pw.lacounty.gov
SUMMARY:Household Hazardous Waste Reuse Center-AVECC
DESCRIPTION:Pick up unused or partially used products for FREE
URL:https://calendar.pw.lacounty.gov/event/household-hazardous-waste-reuse-center-avecc/
LOCATION:Antelope Valley Collection Center\, 1200 City Ranch Road\, Palmdale\, CA\, 93551\, United States
CATEGORIES:Clean LA - Reuse Center
ATTACH;FMTTYPE=image/jpeg:https://calendar.pw.lacounty.gov/wp-content/uploads/sites/18/2025/04/c8aa39d9f574a1a4e2bfa81706bfebdf.jpg
END:VEVENT
BEGIN:VEVENT
DTSTART;TZID=America/Los_Angeles:20250426T090000
DTEND;TZID=America/Los_Angeles:20250426T140000
DTSTAMP:20260425T175410
CREATED:20241222T174819Z
LAST-MODIFIED:20250421T190611Z
UID:10000220-1745658000-1745676000@calendar.pw.lacounty.gov
SUMMARY:Household Hazardous Waste Reuse Center-EDCO
DESCRIPTION:Pick up unused or partially used products for FREE
URL:https://calendar.pw.lacounty.gov/event/household-hazardous-waste-reuse-center-44/
LOCATION:EDCO Recycling & Transfer (hours of operation apply to Transfer Station only)\, 2755 California Avenue\, Signal Hill\, CA\, 90755\, United States
CATEGORIES:Clean LA - Reuse Center
ATTACH;FMTTYPE=image/jpeg:https://calendar.pw.lacounty.gov/wp-content/uploads/sites/18/2024/02/fad1c126f5feb7fcfcfbc205e5b1519d.jpg
END:VEVENT
BEGIN:VEVENT
DTSTART;TZID=America/Los_Angeles:20250426T090000
DTEND;TZID=America/Los_Angeles:20250426T140000
DTSTAMP:20260425T175410
CREATED:20241222T174815Z
LAST-MODIFIED:20250421T185743Z
UID:10000225-1745658000-1745676000@calendar.pw.lacounty.gov
SUMMARY:Tire Collection Event (in Quartz Hill)
DESCRIPTION:Hey everyone\, come drop off your old tires at our Tire Collection Event and help keep our community clean and green!\n\n\nTire Collection Event \nCome join us at the Public Works Road Yard for our upcoming event! We’ll be collecting old tires to help keep our community clean and green. Bring any old tires you have lying around and we’ll take care of the rest. Let’s work together to make our neighborhood a better place for everyone. See you there!
URL:https://calendar.pw.lacounty.gov/event/tire-collection-event-in-quartz-hill/
LOCATION:Public Works Road Yard 551\, 4859 W. Avenue L-12\, Quartz Hill\, CA\, 93536\, United States
CATEGORIES:Clean LA - Tire Recyling
ATTACH;FMTTYPE=image/jpeg:https://calendar.pw.lacounty.gov/wp-content/uploads/sites/18/2024/12/04b2257544f2fca576897e49e4214375.jpg
END:VEVENT
BEGIN:VEVENT
DTSTART;TZID=America/Los_Angeles:20250426T090000
DTEND;TZID=America/Los_Angeles:20250426T140000
DTSTAMP:20260425T175410
CREATED:20241222T174817Z
LAST-MODIFIED:20250421T185743Z
UID:10000226-1745658000-1745676000@calendar.pw.lacounty.gov
SUMMARY:Tire Collection Event (in Lake L.A.)
DESCRIPTION:Hey folks! Join us at the Tire Collection Event to drop off your old tires and help keep our community clean and green!\n\n\n  Tire Collection Event \nTire Collection Event\nCome join us at the Public Works Road Yard for our tire collection event! Got some old tires lying around? Don’t know what to do with them? Bring them to us and we’ll take care of them for you. Help keep our community clean and green by properly disposing of your old tires. See you there!
URL:https://calendar.pw.lacounty.gov/event/tire-collection-event-in-lake-l-a/
LOCATION:Public Works Road Yard 555\, 17341 E. Avenue J\, Lake L.A.\, CA\, 93535\, United States
CATEGORIES:Clean LA - Tire Recyling
ATTACH;FMTTYPE=image/jpeg:https://calendar.pw.lacounty.gov/wp-content/uploads/sites/18/2024/12/1d82fb2aa5406e59f1b855d622976335.jpg
END:VEVENT
BEGIN:VEVENT
DTSTART;TZID=America/Los_Angeles:20250426T090000
DTEND;TZID=America/Los_Angeles:20250426T140000
DTSTAMP:20260425T175410
CREATED:20241222T174820Z
LAST-MODIFIED:20250421T185744Z
UID:10000227-1745658000-1745676000@calendar.pw.lacounty.gov
SUMMARY:Tire Collection Event (in Littlerock)
DESCRIPTION:Got old tires cluttering your garage? Bring them to our Tire Collection Event and we’ll dispose of them properly for you!\n\n\nTire Collection Event \nDate: 4/26/25 \nTime: 9 am – 2 pm \nLocation: Public Works Road Yard \nHey folks! Got some old tires lying around? Join us at our Tire Collection Event where you can drop off those unwanted tires cluttering your space. Swing by the Public Works Road Yard and say goodbye to those eyesores. Let’s keep our community clean together! See you there!
URL:https://calendar.pw.lacounty.gov/event/tire-collection-event-in-littlerock/
LOCATION:Public Works Road Yard 558\, 8505 E. Avenue T\, Littlerock\, CA\, 93543\, United States
CATEGORIES:Clean LA - Tire Recyling
ATTACH;FMTTYPE=image/jpeg:https://calendar.pw.lacounty.gov/wp-content/uploads/sites/18/2024/12/b815e1f17d937df77a59a71da419f110.jpg
END:VEVENT
BEGIN:VEVENT
DTSTART;TZID=America/New_York:20250426T090000
DTEND;TZID=America/New_York:20250426T140000
DTSTAMP:20260425T175410
CREATED:20241222T174822Z
LAST-MODIFIED:20250421T185744Z
UID:10000228-1745658000-1745676000@calendar.pw.lacounty.gov
SUMMARY:Tire Collection Event (in Palmdale)
DESCRIPTION:Bring all your old tires to our Tire Collection Event in Palmdale and help us keep our city clean and green!\n\n\nTire Collection Event (in Palmdale) \nDate:  \nTime:  \nLocation: Public Works Road Yard 557 \nHey there\, tire owners of Palmdale! It’s time to get rid of those old\, unused tires cluttering up your space. Join us at the Tire Collection Event to responsibly dispose of your tires. Swing by the Public Works Road Yard 557 on the designated date and time to drop off your tires. Let’s keep our community clean and green together! See you there!
URL:https://calendar.pw.lacounty.gov/event/tire-collection-event-in-palmdale/
LOCATION:Public Works Road Yard 557\, 38126 Sierra Hwy\, (enter off Ave Q-12)\, Palmdale\, CA\, 93550\, United States
CATEGORIES:Clean LA - Tire Recyling
ATTACH;FMTTYPE=image/jpeg:https://calendar.pw.lacounty.gov/wp-content/uploads/sites/18/2024/12/e540bef9d81ae6b825023194f25dd6aa.jpg
END:VEVENT
BEGIN:VEVENT
DTSTART;TZID=America/Los_Angeles:20250426T090000
DTEND;TZID=America/Los_Angeles:20250426T140000
DTSTAMP:20260425T175410
CREATED:20250122T231908Z
LAST-MODIFIED:20250421T185900Z
UID:10000257-1745658000-1745676000@calendar.pw.lacounty.gov
SUMMARY:Permanent HHW/E-Waste Center: EDCO Environmental Collection Center
DESCRIPTION:Bring your HHW/E-Waste to dispose of FREE of charge.
URL:https://calendar.pw.lacounty.gov/event/permanent-hhw-e-waste-center-edco-environmental-collection-center-19/
LOCATION:EDCO Recycling & Transfer (hours of operation apply to Transfer Station only)\, 2755 California Avenue\, Signal Hill\, CA\, 90755\, United States
CATEGORIES:Clean LA - Collection Centers
ATTACH;FMTTYPE=image/jpeg:https://calendar.pw.lacounty.gov/wp-content/uploads/sites/18/2024/07/911d66b38793c602280969c034b8f46f.jpg
END:VEVENT
END:VCALENDAR