BEGIN:VCALENDAR
VERSION:2.0
PRODID:-//Public Works Calendar - ECPv6.15.20//NONSGML v1.0//EN
CALSCALE:GREGORIAN
METHOD:PUBLISH
X-WR-CALNAME:Public Works Calendar
X-ORIGINAL-URL:https://calendar.pw.lacounty.gov
X-WR-CALDESC:Events for Public Works Calendar
REFRESH-INTERVAL;VALUE=DURATION:PT1H
X-Robots-Tag:noindex
X-PUBLISHED-TTL:PT1H
BEGIN:VTIMEZONE
TZID:America/Los_Angeles
BEGIN:DAYLIGHT
TZOFFSETFROM:-0800
TZOFFSETTO:-0700
TZNAME:PDT
DTSTART:20230312T100000
END:DAYLIGHT
BEGIN:STANDARD
TZOFFSETFROM:-0700
TZOFFSETTO:-0800
TZNAME:PST
DTSTART:20231105T090000
END:STANDARD
BEGIN:DAYLIGHT
TZOFFSETFROM:-0800
TZOFFSETTO:-0700
TZNAME:PDT
DTSTART:20240310T100000
END:DAYLIGHT
BEGIN:STANDARD
TZOFFSETFROM:-0700
TZOFFSETTO:-0800
TZNAME:PST
DTSTART:20241103T090000
END:STANDARD
BEGIN:DAYLIGHT
TZOFFSETFROM:-0800
TZOFFSETTO:-0700
TZNAME:PDT
DTSTART:20250309T100000
END:DAYLIGHT
BEGIN:STANDARD
TZOFFSETFROM:-0700
TZOFFSETTO:-0800
TZNAME:PST
DTSTART:20251102T090000
END:STANDARD
END:VTIMEZONE
BEGIN:VEVENT
DTSTART;TZID=America/Los_Angeles:20241102T090000
DTEND;TZID=America/Los_Angeles:20241102T140000
DTSTAMP:20260423T055828
CREATED:20241028T163046Z
LAST-MODIFIED:20241028T163046Z
UID:10000207-1730538000-1730556000@calendar.pw.lacounty.gov
SUMMARY:Mattress Collection Event - Palmdale
DESCRIPTION:Bring your old mattresses to our free Mattress Collection Event to be recycled.\n\n\nFlyer: Q4Mattress (lacounty.gov)
URL:https://calendar.pw.lacounty.gov/event/mattress-collection-event-palmdale/
LOCATION:Public Works Road Yard 557\, 38126 Sierra Hwy\, (enter off Ave Q-12)\, Palmdale\, CA\, 93550\, United States
CATEGORIES:Clean LA - Mattress Recycling
ATTACH;FMTTYPE=image/jpeg:https://calendar.pw.lacounty.gov/wp-content/uploads/sites/18/2024/10/76ca780bbddd0f09c0a8a071b28a147e.jpg
END:VEVENT
BEGIN:VEVENT
DTSTART;TZID=America/Los_Angeles:20241102T090000
DTEND;TZID=America/Los_Angeles:20241102T150000
DTSTAMP:20260423T055828
CREATED:20240207T183938Z
LAST-MODIFIED:20241028T162010Z
UID:10000041-1730538000-1730559600@calendar.pw.lacounty.gov
SUMMARY:Household Hazardous Waste Reuse Center
DESCRIPTION:Pick up unused or partially used products for FREE
URL:https://calendar.pw.lacounty.gov/event/household-hazardous-waste-reuse-center-33/
LOCATION:Antelope Valley Collection Center\, 1200 City Ranch Road\, Palmdale\, CA\, 93551\, United States
CATEGORIES:Clean LA - Reuse Center
ATTACH;FMTTYPE=image/jpeg:https://calendar.pw.lacounty.gov/wp-content/uploads/sites/18/2024/02/7024b8a78336bd9fee4b8d4d0846fdbf.jpg
END:VEVENT
BEGIN:VEVENT
DTSTART;TZID=America/Los_Angeles:20241102T090000
DTEND;TZID=America/Los_Angeles:20241102T150000
DTSTAMP:20260423T055828
CREATED:20240822T195336Z
LAST-MODIFIED:20241028T161052Z
UID:10000157-1730538000-1730559600@calendar.pw.lacounty.gov
SUMMARY:City of Covina HHW Collection Event
DESCRIPTION:Bring your HHW/E-Waste to dispose of FREE of charge.\n\n\nPlease follow the transportation limit of 15 gallons or 125 pounds of hazardous waste per trip when driving your HHW/E-waste to the County permanent centers or collection events for disposal. \nHHW/E-WASTE COLLECTION EVENTS \nLos Angeles County residents may utilize temporary\, one-day collection events throughout the County to properly dispose of HHW/E-Waste FREE of charge. Events are from 9 a.m. to 3 p.m. (unless otherwise noted). Rain or shine\, collection events will be held as scheduled below. \nBUSINESS WASTE \nBusiness hazardous waste and electronic waste is not accepted at the County permanent centers or collection events. If you are a small business with hazardous waste\, visit www.businessrecycling.com to locate a proper recycler. You may qualify for the Very Small Quantity Generator (VSQG) Program. This service is by appointment only. Please call 310-387-1071\, or email 4HCESQG@cleanharbors.com to book an appointment. \nSign up for E-Notify to receive automatic notifications of new events. Learn what to expect when attending an event here: HHW/E-Waste Temporary Collection Events.
URL:https://calendar.pw.lacounty.gov/event/city-of-covina-hhw-collection-event/
LOCATION:Royal Oak Middle School\, 303 Glendora Avenue\, Covina\, CA\, 91724\, United States
CATEGORIES:Clean LA - HHW
ATTACH;FMTTYPE=image/jpeg:https://calendar.pw.lacounty.gov/wp-content/uploads/sites/18/2024/08/a997406ab13feb97aa7ce5e1f9a4979c.jpg
END:VEVENT
BEGIN:VEVENT
DTSTART;TZID=America/Los_Angeles:20241102T090000
DTEND;TZID=America/Los_Angeles:20241102T150000
DTSTAMP:20260423T055828
CREATED:20240702T132331Z
LAST-MODIFIED:20241028T162505Z
UID:10000131-1730538000-1730559600@calendar.pw.lacounty.gov
SUMMARY:Permanent HHW/E-Waste Center: AVECC
DESCRIPTION:Bring your HHW/E-Waste to dispose of FREE of charge.
URL:https://calendar.pw.lacounty.gov/event/permanent-hhw-e-waste-center-avecc-10/
LOCATION:Antelope Valley Environmental Collection Center\, 1200 West City Ranch Road\, Palmdale\, CA\, 93551\, United States
CATEGORIES:Clean LA - Collection Centers
ATTACH;FMTTYPE=image/jpeg:https://calendar.pw.lacounty.gov/wp-content/uploads/sites/18/2024/07/768955e7349cedce7fc9a6fbcc0c6658.jpg
END:VEVENT
BEGIN:VEVENT
DTSTART;TZID=America/Los_Angeles:20241104T180000
DTEND;TZID=America/Los_Angeles:20241104T190000
DTSTAMP:20260423T055828
CREATED:20240918T213914Z
LAST-MODIFIED:20241028T162940Z
UID:10000189-1730743200-1730746800@calendar.pw.lacounty.gov
SUMMARY:Seminario Web: Jardinería Orgánica
DESCRIPTION:¡Aprende a cultivar tu propio jardín orgánico desde la comodidad de tu hogar con nuestro webinar en español!\n\n\nJoin us online for a fun and informative session on how to grow your own organic garden. Whether you’re a beginner or have a green thumb\, this webinar will provide you with valuable tips and tricks to help your plants thrive.
URL:https://calendar.pw.lacounty.gov/event/webinar-organic-gardening-spanish/
CATEGORIES:Clean LA - Smart Gardening
ATTACH;FMTTYPE=image/jpeg:https://calendar.pw.lacounty.gov/wp-content/uploads/sites/18/2024/09/515c5818f96af2fddbe2a4bbfa39f5ac.jpg
END:VEVENT
BEGIN:VEVENT
DTSTART;TZID=America/Los_Angeles:20241106T150000
DTEND;TZID=America/Los_Angeles:20241106T160000
DTSTAMP:20260423T055828
CREATED:20240918T213916Z
LAST-MODIFIED:20241028T162940Z
UID:10000190-1730905200-1730908800@calendar.pw.lacounty.gov
SUMMARY:Webinar:  Introduction to Composting
DESCRIPTION:Join us for a fun and informative online session where we will teach you all about composting from the comfort of your own home!\n\n\nDon’t miss out on this informative session that will help you reduce waste and create nutrient-rich soil for your garden. Register now and become a composting pro!
URL:https://calendar.pw.lacounty.gov/event/webinar-introduction-to-composting-6/
CATEGORIES:Clean LA - Smart Gardening
ATTACH;FMTTYPE=image/jpeg:https://calendar.pw.lacounty.gov/wp-content/uploads/sites/18/2024/09/14ae09a2dc29ffea31509fd6ce53da25-1.jpg
END:VEVENT
BEGIN:VEVENT
DTSTART;TZID=America/Los_Angeles:20241107T120000
DTEND;TZID=America/Los_Angeles:20241107T130000
DTSTAMP:20260423T055828
CREATED:20240918T213920Z
LAST-MODIFIED:20241028T162940Z
UID:10000191-1730980800-1730984400@calendar.pw.lacounty.gov
SUMMARY:Webinar: Introduction to Composting
DESCRIPTION:Join us for a fun and informative online session where we’ll teach you all about composting from start to finish!\n\n\nOur expert speaker will cover the basics of composting\, including what materials to use\, how to maintain your compost pile\, and the benefits of composting for the environment. Don’t miss out on this informative session – sign up now!
URL:https://calendar.pw.lacounty.gov/event/webinar-introduction-to-composting-7/
CATEGORIES:Clean LA - Smart Gardening
ATTACH;FMTTYPE=image/jpeg:https://calendar.pw.lacounty.gov/wp-content/uploads/sites/18/2024/09/c50a6e843941c669e5a27953b4e3f2f5-1.jpg
END:VEVENT
BEGIN:VEVENT
DTSTART;TZID=America/Los_Angeles:20241109T090000
DTEND;TZID=America/Los_Angeles:20241109T150000
DTSTAMP:20260423T055828
CREATED:20240704T150829Z
LAST-MODIFIED:20241028T162318Z
UID:10000148-1731142800-1731164400@calendar.pw.lacounty.gov
SUMMARY:Tire Collection Event - Hawthorne
DESCRIPTION:Bring your used tires to our free Tire Collection Event to be recycled.\n\n\nFlyer: Hwthrne.pdf (lacounty.gov) \nEn Espanol: Hwthrne_sp.pdf (lacounty.gov) \nResidents\, bring their used tires to our free event. Tires will be recycled free of charge. Don’t miss the opportunity to remove those stubborn tires in your garage or community. Thousands of residents have taken advantage of this service.  \nTire Recycling – CleanLA (lacounty.gov) \n\n\nRESTRICTIONS:● Tires from LA County residents only.● Rims will be accepted.● No tires from businesses.● No oversized or tractor tires.● If you transport 10 or more tires per trip\, please contact the Public Health Department a week ahead at (626) 430-5540 to obtain a tire transport form.
URL:https://calendar.pw.lacounty.gov/event/tire-recycling-event-hawthorne/
LOCATION:Betty Ainsworth Sports Center – Parking Lot\, 3851 West El Segundo Boulevard\, Hawthorne\, CA\, 90250\, United States
CATEGORIES:Clean LA - Tire Recyling
ATTACH;FMTTYPE=image/jpeg:https://calendar.pw.lacounty.gov/wp-content/uploads/sites/18/2024/07/7171c795ffeaddf37f70a750b1a4a1a2.jpg
END:VEVENT
BEGIN:VEVENT
DTSTART;TZID=America/Los_Angeles:20241109T090000
DTEND;TZID=America/Los_Angeles:20241109T150000
DTSTAMP:20260423T055828
CREATED:20240823T202510Z
LAST-MODIFIED:20241028T161053Z
UID:10000159-1731142800-1731164400@calendar.pw.lacounty.gov
SUMMARY:City of Carson HHW Collection Event
DESCRIPTION:Bring your HHW/E-Waste to dispose of FREE of charge.\n\n\nPlease follow the transportation limit of 15 gallons or 125 pounds of hazardous waste per trip when driving your HHW/E-waste to the County permanent centers or collection events for disposal. \nHHW/E-WASTE COLLECTION EVENTS \nLos Angeles County residents may utilize temporary\, one-day collection events throughout the County to properly dispose of HHW/E-Waste FREE of charge. Events are from 9 a.m. to 3 p.m. (unless otherwise noted). Rain or shine\, collection events will be held as scheduled below. \nBUSINESS WASTE \nBusiness hazardous waste and electronic waste is not accepted at the County permanent centers or collection events. If you are a small business with hazardous waste\, visit www.businessrecycling.com to locate a proper recycler. You may qualify for the Very Small Quantity Generator (VSQG) Program. This service is by appointment only. Please call 310-387-1071\, or email 4HCESQG@cleanharbors.com to book an appointment. \nSign up for E-Notify to receive automatic notifications of new events. Learn what to expect when attending an event here: HHW/E-Waste Temporary Collection Events.
URL:https://calendar.pw.lacounty.gov/event/city-of-carson-hhw-collection-event/
LOCATION:A.K. Warren Water Resource Facility West Maintenance Building Parking Lot\, 24501 South Figueroa Street\, Carson\, CA\, 90745\, United States
CATEGORIES:Clean LA - HHW
ATTACH;FMTTYPE=image/jpeg:https://calendar.pw.lacounty.gov/wp-content/uploads/sites/18/2024/08/ab359573bd1b2d010a274d96b8f401de.jpg
END:VEVENT
BEGIN:VEVENT
DTSTART;TZID=America/Los_Angeles:20241109T110000
DTEND;TZID=America/Los_Angeles:20241109T123000
DTSTAMP:20260423T055828
CREATED:20240918T213921Z
LAST-MODIFIED:20241028T162940Z
UID:10000192-1731150000-1731155400@calendar.pw.lacounty.gov
SUMMARY:Workshop: Organic Gardening
DESCRIPTION:Come join us for a hands-on workshop on Organic Gardening\, where you’ll learn how to grow your own fruits and veggies naturally!\n\n\nWelcome to Organic Gardening! \nCome join us at the View Park Library for a fun and informative workshop about growing your own organic garden. \n\n\nFlyer: ViewPrk.pdf (lacounty.gov)
URL:https://calendar.pw.lacounty.gov/event/organic-gardening-3/
LOCATION:View Park Library\, 3854 West 54th Street\, Los Angeles\, CA\, 90043\, United States
CATEGORIES:Clean LA - Smart Gardening
ATTACH;FMTTYPE=image/jpeg:https://calendar.pw.lacounty.gov/wp-content/uploads/sites/18/2024/09/7b1b63d93c3c7c53003371cd92bd661b-1.jpg
END:VEVENT
BEGIN:VEVENT
DTSTART;TZID=America/Los_Angeles:20241111T180000
DTEND;TZID=America/Los_Angeles:20241111T190000
DTSTAMP:20260423T055828
CREATED:20240918T213923Z
LAST-MODIFIED:20241028T162941Z
UID:10000193-1731348000-1731351600@calendar.pw.lacounty.gov
SUMMARY:Webinar: Introduction to Composting
DESCRIPTION:Join us for a special Veterans Day webinar where we’ll teach you all about composting in a fun and informative way!\n\n\nWhether you’re a beginner or looking to enhance your skills\, this webinar is perfect for you. Our expert speakers will cover the basics of composting\, its benefits\, and how you can get started right at home.
URL:https://calendar.pw.lacounty.gov/event/webinar-introduction-to-composting-veterans-day/
CATEGORIES:Clean LA - Smart Gardening
ATTACH;FMTTYPE=image/jpeg:https://calendar.pw.lacounty.gov/wp-content/uploads/sites/18/2024/09/ca1231867a3dd346308babc68c2238b0-1.jpg
END:VEVENT
BEGIN:VEVENT
DTSTART;TZID=America/Los_Angeles:20241113T150000
DTEND;TZID=America/Los_Angeles:20241113T160000
DTSTAMP:20260423T055828
CREATED:20240918T213925Z
LAST-MODIFIED:20241028T162941Z
UID:10000194-1731510000-1731513600@calendar.pw.lacounty.gov
SUMMARY:Webinar: Introduction to Composting
DESCRIPTION:Learn the basics of composting from the comfort of your own home in our Webinar: Introduction to Composting!\n\n\nJoin us for a Webinar: Introduction to Composting! \nAre you interested in learning how to turn your kitchen scraps and yard waste into nutrient-rich compost for your garden? This online event is perfect for beginners looking to start composting at home.
URL:https://calendar.pw.lacounty.gov/event/webinar-introduction-to-composting-8/
CATEGORIES:Clean LA - Smart Gardening
ATTACH;FMTTYPE=image/jpeg:https://calendar.pw.lacounty.gov/wp-content/uploads/sites/18/2024/09/7271bec4de63300b6ea2c67465b61c98-1.jpg
END:VEVENT
BEGIN:VEVENT
DTSTART;TZID=America/Los_Angeles:20241114T120000
DTEND;TZID=America/Los_Angeles:20241114T130000
DTSTAMP:20260423T055828
CREATED:20240918T213927Z
LAST-MODIFIED:20241028T162941Z
UID:10000195-1731585600-1731589200@calendar.pw.lacounty.gov
SUMMARY:Webinar: Small-Space Gardening
DESCRIPTION:Learn how to create a thriving garden in even the tiniest of spaces during our Webinar: Small-Space Gardening!\n\n\nAre you eager to start your own garden but limited on space? Join us for this online event where we will share tips and tricks for creating a beautiful garden in even the smallest of spaces.
URL:https://calendar.pw.lacounty.gov/event/webinar-small-space-gardening-4/
CATEGORIES:Clean LA - Smart Gardening
ATTACH;FMTTYPE=image/jpeg:https://calendar.pw.lacounty.gov/wp-content/uploads/sites/18/2024/09/8a0d0d3009dbed5747dc1cacc07ed339-1.jpg
END:VEVENT
BEGIN:VEVENT
DTSTART;TZID=America/Los_Angeles:20241116T090000
DTEND;TZID=America/Los_Angeles:20241116T150000
DTSTAMP:20260423T055828
CREATED:20240702T132331Z
LAST-MODIFIED:20241028T162506Z
UID:10000132-1731747600-1731769200@calendar.pw.lacounty.gov
SUMMARY:Permanent HHW/E-Waste Center: AVECC
DESCRIPTION:Bring your HHW/E-Waste to dispose of FREE of charge.
URL:https://calendar.pw.lacounty.gov/event/permanent-hhw-e-waste-center-avecc-11/
LOCATION:Antelope Valley Environmental Collection Center\, 1200 West City Ranch Road\, Palmdale\, CA\, 93551\, United States
CATEGORIES:Clean LA - Collection Centers
ATTACH;FMTTYPE=image/jpeg:https://calendar.pw.lacounty.gov/wp-content/uploads/sites/18/2024/07/768955e7349cedce7fc9a6fbcc0c6658.jpg
END:VEVENT
BEGIN:VEVENT
DTSTART;TZID=America/Los_Angeles:20241116T090000
DTEND;TZID=America/Los_Angeles:20241116T150000
DTSTAMP:20260423T055828
CREATED:20240207T183938Z
LAST-MODIFIED:20241028T162010Z
UID:10000042-1731747600-1731769200@calendar.pw.lacounty.gov
SUMMARY:Household Hazardous Waste Reuse Center
DESCRIPTION:Pick up unused or partially used products for FREE
URL:https://calendar.pw.lacounty.gov/event/household-hazardous-waste-reuse-center-34/
LOCATION:Antelope Valley Collection Center\, 1200 City Ranch Road\, Palmdale\, CA\, 93551\, United States
CATEGORIES:Clean LA - Reuse Center
ATTACH;FMTTYPE=image/jpeg:https://calendar.pw.lacounty.gov/wp-content/uploads/sites/18/2024/02/7024b8a78336bd9fee4b8d4d0846fdbf.jpg
END:VEVENT
BEGIN:VEVENT
DTSTART;TZID=America/Los_Angeles:20241116T090000
DTEND;TZID=America/Los_Angeles:20241116T150000
DTSTAMP:20260423T055828
CREATED:20241009T232714Z
LAST-MODIFIED:20241113T032516Z
UID:10000201-1731747600-1731769200@calendar.pw.lacounty.gov
SUMMARY:Unincorporated South Whittier HHW Collection Event
DESCRIPTION:Bring your HHW/E-Waste to dispose of FREE of charge.\n\n\nPlease follow the transportation limit of 15 gallons or 125 pounds of hazardous waste per trip when driving your HHW/E-waste to the County permanent centers or collection events for disposal. \nHHW/E-WASTE COLLECTION EVENTS \nLos Angeles County residents may utilize temporary\, one-day collection events throughout the County to properly dispose of HHW/E-Waste FREE of charge. Events are from 9 a.m. to 3 p.m. (unless otherwise noted). Rain or shine\, collection events will be held as scheduled below. \nBUSINESS WASTE \nBusiness hazardous waste and electronic waste is not accepted at the County permanent centers or collection events. If you are a small business with hazardous waste\, visit www.businessrecycling.com to locate a proper recycler. You may qualify for the Very Small Quantity Generator (VSQG) Program. This service is by appointment only. Please call 310-387-1071\, or email 4HCESQG@cleanharbors.com to book an appointment. \nSign up for E-Notify to receive automatic notifications of new events. Learn what to expect when attending an event here: HHW/E-Waste Temporary Collection Events.
URL:https://calendar.pw.lacounty.gov/event/unincorporated-south-whittier-hhw-collection-event/
LOCATION:Liberty Community Plaza\, 14181 Telegraph Road\, Whittier\, CA\, 90604\, United States
CATEGORIES:Clean LA - HHW
ATTACH;FMTTYPE=image/jpeg:https://calendar.pw.lacounty.gov/wp-content/uploads/sites/18/2024/10/cf2bbb6f42b05650b7dc9f25cfd71f2e.jpg
END:VEVENT
BEGIN:VEVENT
DTSTART;TZID=America/Los_Angeles:20241116T100000
DTEND;TZID=America/Los_Angeles:20241116T113000
DTSTAMP:20260423T055828
CREATED:20240918T213929Z
LAST-MODIFIED:20241028T162953Z
UID:10000196-1731751200-1731756600@calendar.pw.lacounty.gov
SUMMARY:Workshop: Backyard and Worm Composting
DESCRIPTION:Learn how to turn your backyard into a thriving composting ecosystem with the help of our friendly worms!\n\n\nBackyard and Worm Composting \nCome join us at the Peninsula Center Library for a fun and informative event all about composting! Learn how to turn your food scraps and yard waste into nutrient-rich soil for your plants. Our experts will teach you the ins and outs of backyard composting and worm composting\, so you can reduce waste and help the environment.  \n\n\nFlyer: RHE.pdf
URL:https://calendar.pw.lacounty.gov/event/backyard-and-worm-composting-6/
LOCATION:Peninsula Center Library\, 701 Silver Spur Road\, Rolling Hills Estates\, CA\, 90274\, United States
CATEGORIES:Clean LA - Smart Gardening
ATTACH;FMTTYPE=image/jpeg:https://calendar.pw.lacounty.gov/wp-content/uploads/sites/18/2024/09/4e2aabdac82e4294046be0c0ad3a9fec-1.jpg
END:VEVENT
BEGIN:VEVENT
DTSTART;TZID=America/Los_Angeles:20241123T090000
DTEND;TZID=America/Los_Angeles:20241123T140000
DTSTAMP:20260423T055828
CREATED:20240702T132348Z
LAST-MODIFIED:20241028T162506Z
UID:10000141-1732352400-1732370400@calendar.pw.lacounty.gov
SUMMARY:Permanent HHW/E-Waste Center: EDCO Environmental Collection Center
DESCRIPTION:Bring your HHW/E-Waste to dispose of FREE of charge.
URL:https://calendar.pw.lacounty.gov/event/permanent-hhw-e-waste-center-edco-environmental-collection-center-10/
LOCATION:EDCO Recycling & Transfer (hours of operation apply to Transfer Station only)\, 2755 California Avenue\, Signal Hill\, CA\, 90755\, United States
CATEGORIES:Clean LA - Collection Centers
ATTACH;FMTTYPE=image/jpeg:https://calendar.pw.lacounty.gov/wp-content/uploads/sites/18/2024/07/911d66b38793c602280969c034b8f46f.jpg
END:VEVENT
BEGIN:VEVENT
DTSTART;TZID=America/Los_Angeles:20241123T090000
DTEND;TZID=America/Los_Angeles:20241123T140000
DTSTAMP:20260423T055828
CREATED:20240207T183918Z
LAST-MODIFIED:20241028T162010Z
UID:10000024-1732352400-1732370400@calendar.pw.lacounty.gov
SUMMARY:Household Hazardous Waste Reuse Center
DESCRIPTION:Pick up unused or partially used products for FREE
URL:https://calendar.pw.lacounty.gov/event/household-hazardous-waste-reuse-center-16/
LOCATION:EDCO Recycling & Transfer (hours of operation apply to Transfer Station only)\, 2755 California Avenue\, Signal Hill\, CA\, 90755\, United States
CATEGORIES:Clean LA - Reuse Center
ATTACH;FMTTYPE=image/jpeg:https://calendar.pw.lacounty.gov/wp-content/uploads/sites/18/2024/02/fad1c126f5feb7fcfcfbc205e5b1519d.jpg
END:VEVENT
END:VCALENDAR