BEGIN:VCALENDAR
VERSION:2.0
PRODID:-//Public Works Calendar - ECPv6.15.20//NONSGML v1.0//EN
CALSCALE:GREGORIAN
METHOD:PUBLISH
X-WR-CALNAME:Public Works Calendar
X-ORIGINAL-URL:https://calendar.pw.lacounty.gov
X-WR-CALDESC:Events for Public Works Calendar
REFRESH-INTERVAL;VALUE=DURATION:PT1H
X-Robots-Tag:noindex
X-PUBLISHED-TTL:PT1H
BEGIN:VTIMEZONE
TZID:America/Los_Angeles
BEGIN:DAYLIGHT
TZOFFSETFROM:-0800
TZOFFSETTO:-0700
TZNAME:PDT
DTSTART:20230312T100000
END:DAYLIGHT
BEGIN:STANDARD
TZOFFSETFROM:-0700
TZOFFSETTO:-0800
TZNAME:PST
DTSTART:20231105T090000
END:STANDARD
BEGIN:DAYLIGHT
TZOFFSETFROM:-0800
TZOFFSETTO:-0700
TZNAME:PDT
DTSTART:20240310T100000
END:DAYLIGHT
BEGIN:STANDARD
TZOFFSETFROM:-0700
TZOFFSETTO:-0800
TZNAME:PST
DTSTART:20241103T090000
END:STANDARD
BEGIN:DAYLIGHT
TZOFFSETFROM:-0800
TZOFFSETTO:-0700
TZNAME:PDT
DTSTART:20250309T100000
END:DAYLIGHT
BEGIN:STANDARD
TZOFFSETFROM:-0700
TZOFFSETTO:-0800
TZNAME:PST
DTSTART:20251102T090000
END:STANDARD
END:VTIMEZONE
BEGIN:VEVENT
DTSTART;TZID=America/Los_Angeles:20240509T083000
DTEND;TZID=America/Los_Angeles:20240509T150000
DTSTAMP:20260424T183325
CREATED:20240502T205647Z
LAST-MODIFIED:20240502T205647Z
UID:10000074-1715243400-1715266800@calendar.pw.lacounty.gov
SUMMARY:Los Angeles Region Small Business Summit
DESCRIPTION:
URL:https://calendar.pw.lacounty.gov/event/los-angeles-region-small-business-summit-2/
LOCATION:Mission College\, 13356 Eldridge Ave.\, Sylmar\, CA\, 91342\, United States
CATEGORIES:Doing Business with PW
END:VEVENT
BEGIN:VEVENT
DTSTART;TZID=America/Los_Angeles:20240515T083000
DTEND;TZID=America/Los_Angeles:20240515T150000
DTSTAMP:20260424T183325
CREATED:20240502T205831Z
LAST-MODIFIED:20240502T205831Z
UID:10000075-1715761800-1715785200@calendar.pw.lacounty.gov
SUMMARY:Los Angeles Region Small Business Summit
DESCRIPTION:
URL:https://calendar.pw.lacounty.gov/event/los-angeles-region-small-business-summit-3/
LOCATION:Cal State Los Angeles\, 5151 State University Dr.\, Los Angeles\, CA\, 90032\, United States
CATEGORIES:Doing Business with PW
END:VEVENT
BEGIN:VEVENT
DTSTART;TZID=America/Los_Angeles:20240520T090000
DTEND;TZID=America/Los_Angeles:20240520T140000
DTSTAMP:20260424T183325
CREATED:20240502T210439Z
LAST-MODIFIED:20240502T210556Z
UID:10000076-1716195600-1716213600@calendar.pw.lacounty.gov
SUMMARY:AccessingLA: TeamWith - Preparing Businesses for the Future
DESCRIPTION:
URL:https://calendar.pw.lacounty.gov/event/accessingla-teamwith-preparing-businesses-for-the-future/
LOCATION:Japanese American National Museum\, 100 North Central Avenue\, Los Angeles\, CA\, 90012\, United States
CATEGORIES:Doing Business with PW
END:VEVENT
BEGIN:VEVENT
DTSTART;TZID=America/Los_Angeles:20240523T083000
DTEND;TZID=America/Los_Angeles:20240523T133000
DTSTAMP:20260424T183325
CREATED:20240516T160053Z
LAST-MODIFIED:20240516T160053Z
UID:10000080-1716453000-1716471000@calendar.pw.lacounty.gov
SUMMARY:Los Angeles Region Small Business Summit
DESCRIPTION:Join this unique in-person event presented by LA County in celebration of National Small Business Month. Small businesses will get assistance to recover\, grow and thrive through business resources\, panel discussions\, a resource expo and more!
URL:https://calendar.pw.lacounty.gov/event/los-angeles-region-small-business-summit-4/
LOCATION:CA
CATEGORIES:Doing Business with PW
END:VEVENT
END:VCALENDAR