BEGIN:VCALENDAR
VERSION:2.0
PRODID:-//Public Works Calendar - ECPv6.15.20//NONSGML v1.0//EN
CALSCALE:GREGORIAN
METHOD:PUBLISH
X-ORIGINAL-URL:https://calendar.pw.lacounty.gov
X-WR-CALDESC:Events for Public Works Calendar
REFRESH-INTERVAL;VALUE=DURATION:PT1H
X-Robots-Tag:noindex
X-PUBLISHED-TTL:PT1H
BEGIN:VTIMEZONE
TZID:America/Los_Angeles
BEGIN:DAYLIGHT
TZOFFSETFROM:-0800
TZOFFSETTO:-0700
TZNAME:PDT
DTSTART:20240310T100000
END:DAYLIGHT
BEGIN:STANDARD
TZOFFSETFROM:-0700
TZOFFSETTO:-0800
TZNAME:PST
DTSTART:20241103T090000
END:STANDARD
BEGIN:DAYLIGHT
TZOFFSETFROM:-0800
TZOFFSETTO:-0700
TZNAME:PDT
DTSTART:20250309T100000
END:DAYLIGHT
BEGIN:STANDARD
TZOFFSETFROM:-0700
TZOFFSETTO:-0800
TZNAME:PST
DTSTART:20251102T090000
END:STANDARD
BEGIN:DAYLIGHT
TZOFFSETFROM:-0800
TZOFFSETTO:-0700
TZNAME:PDT
DTSTART:20260308T100000
END:DAYLIGHT
BEGIN:STANDARD
TZOFFSETFROM:-0700
TZOFFSETTO:-0800
TZNAME:PST
DTSTART:20261101T090000
END:STANDARD
END:VTIMEZONE
BEGIN:VEVENT
DTSTART;TZID=America/Los_Angeles:20250920T090000
DTEND;TZID=America/Los_Angeles:20250920T150000
DTSTAMP:20260419T195151
CREATED:20250508T113025Z
LAST-MODIFIED:20250817T203357Z
UID:10000291-1758358800-1758380400@calendar.pw.lacounty.gov
SUMMARY:Permanent HHW/E-Waste Center: Antelope Valley Collection Center
DESCRIPTION:Bring your HHW/E-Waste to dispose of FREE of charge.
URL:https://calendar.pw.lacounty.gov/event/permanent-hhw-e-waste-center-antelope-valley-collection-center-9/
LOCATION:Antelope Valley Collection Center\, 1200 West City Ranch Road\, Palmdale\, CA\, 93551\, United States
CATEGORIES:Clean LA - Collection Centers
ATTACH;FMTTYPE=image/jpeg:https://calendar.pw.lacounty.gov/wp-content/uploads/sites/18/2024/12/6f9a0fc402ada211c068c6fd0c915ba5.jpg
END:VEVENT
BEGIN:VEVENT
DTSTART;TZID=America/Los_Angeles:20250920T090000
DTEND;TZID=America/Los_Angeles:20250920T150000
DTSTAMP:20260419T195151
CREATED:20250508T113030Z
LAST-MODIFIED:20250915T002001Z
UID:10000299-1758358800-1758380400@calendar.pw.lacounty.gov
SUMMARY:Household Hazardous Waste Reuse Center-AVECC
DESCRIPTION:Pick up unused or partially used products for FREE
URL:https://calendar.pw.lacounty.gov/event/household-hazardous-waste-reuse-center-avecc-9/
LOCATION:Antelope Valley Collection Center\, 1200 City Ranch Road\, Palmdale\, CA\, 93551\, United States
CATEGORIES:Clean LA - Reuse Center
ATTACH;FMTTYPE=image/jpeg:https://calendar.pw.lacounty.gov/wp-content/uploads/sites/18/2025/04/c8aa39d9f574a1a4e2bfa81706bfebdf.jpg
END:VEVENT
BEGIN:VEVENT
DTSTART;TZID=America/Los_Angeles:20250920T090000
DTEND;TZID=America/Los_Angeles:20250920T150000
DTSTAMP:20260419T195151
CREATED:20250724T141211Z
LAST-MODIFIED:20250915T001956Z
UID:10000318-1758358800-1758380400@calendar.pw.lacounty.gov
SUMMARY:City of Hawthorne HHW Collection Event
DESCRIPTION:Bring your HHW/E-Waste to dispose of FREE of charge.\n\n\nPlease follow the transportation limit of 15 gallons or 125 pounds of hazardous waste per trip when driving your HHW/E-waste to the County permanent centers or collection events for disposal. \nHHW/E-WASTE COLLECTION EVENTS \nLos Angeles County residents may utilize temporary\, one-day collection events throughout the County to properly dispose of HHW/E-Waste FREE of charge. Events are from 9 a.m. to 3 p.m. (unless otherwise noted). Rain or shine\, collection events will be held as scheduled below. \nBUSINESS WASTE \nBusiness hazardous waste and electronic waste is not accepted at the County permanent centers or collection events. If you are a small business with hazardous waste\, visit www.businessrecycling.com to locate a proper recycler. You may qualify for the Very Small Quantity Generator (VSQG) Program. This service is by appointment only. Please call 310-387-1071\, or email 4HCESQG@cleanharbors.com to book an appointment. \nSign up for E-Notify to receive automatic notifications of new events. Learn what to expect when attending an event here: HHW/E-Waste Temporary Collection Events.
URL:https://calendar.pw.lacounty.gov/event/city-of-hawthorne-hhw-collection-event/
LOCATION:Betty Ainsworth Sports Center\, El Segundo Blvd and Doty Ave.\, Hawthorne\, CA\, 90250\, United States
CATEGORIES:Clean LA - HHW
ATTACH;FMTTYPE=image/jpeg:https://calendar.pw.lacounty.gov/wp-content/uploads/sites/18/2025/07/b365ffbb92baf718af5a9e98cab928ad.jpg
END:VEVENT
END:VCALENDAR