BEGIN:VCALENDAR
VERSION:2.0
PRODID:-//Public Works Calendar - ECPv6.15.20//NONSGML v1.0//EN
CALSCALE:GREGORIAN
METHOD:PUBLISH
X-ORIGINAL-URL:https://calendar.pw.lacounty.gov
X-WR-CALDESC:Events for Public Works Calendar
REFRESH-INTERVAL;VALUE=DURATION:PT1H
X-Robots-Tag:noindex
X-PUBLISHED-TTL:PT1H
BEGIN:VTIMEZONE
TZID:America/Los_Angeles
BEGIN:DAYLIGHT
TZOFFSETFROM:-0800
TZOFFSETTO:-0700
TZNAME:PDT
DTSTART:20230312T100000
END:DAYLIGHT
BEGIN:STANDARD
TZOFFSETFROM:-0700
TZOFFSETTO:-0800
TZNAME:PST
DTSTART:20231105T090000
END:STANDARD
BEGIN:DAYLIGHT
TZOFFSETFROM:-0800
TZOFFSETTO:-0700
TZNAME:PDT
DTSTART:20240310T100000
END:DAYLIGHT
BEGIN:STANDARD
TZOFFSETFROM:-0700
TZOFFSETTO:-0800
TZNAME:PST
DTSTART:20241103T090000
END:STANDARD
BEGIN:DAYLIGHT
TZOFFSETFROM:-0800
TZOFFSETTO:-0700
TZNAME:PDT
DTSTART:20250309T100000
END:DAYLIGHT
BEGIN:STANDARD
TZOFFSETFROM:-0700
TZOFFSETTO:-0800
TZNAME:PST
DTSTART:20251102T090000
END:STANDARD
END:VTIMEZONE
BEGIN:VEVENT
DTSTART;TZID=America/Los_Angeles:20240323T090000
DTEND;TZID=America/Los_Angeles:20240323T150000
DTSTAMP:20260421T073401
CREATED:20240307T023841Z
LAST-MODIFIED:20240323T053923Z
UID:10000063-1711184400-1711206000@calendar.pw.lacounty.gov
SUMMARY:Tire Recycling Event - Westchester
DESCRIPTION:Bring your used tires to our free Waste Tire Collection Event.\n\n\nResidents are encouraged to bring their used tires to our free Waste Tire Collection Events. Tires will be accepted and recycled free of charge. Don’t miss the opportunity to remove those stubborn tires in your yard\, garage or community. Thousands of residents have taken advantage of this service. \n\n\nRESTRICTIONS:● Tires from LA County residents only.● Rims will be accepted.● No tires from businesses.● No oversized or tractor tires.● If you transport 10 or more tires per trip\, please contact the Public Health Department a week ahead at (626) 430-5540 to obtain a tire transport form.
URL:https://calendar.pw.lacounty.gov/event/tire-recycling-event-westchester/
LOCATION:Public Works District Yard 3\, 5530 W. 83rd St\, Los Angeles\, CA\, 90045\, United States
CATEGORIES:Clean LA - Tire Recyling
ATTACH;FMTTYPE=image/jpeg:https://calendar.pw.lacounty.gov/wp-content/uploads/sites/18/2024/03/239902bdb8fdb3d9320e68ff615aa388.jpg
END:VEVENT
END:VCALENDAR